BEGIN:VCALENDAR
VERSION:2.0
PRODID:-//The Church of St. Paul in the Desert - ECPv6.15.17.1//NONSGML v1.0//EN
CALSCALE:GREGORIAN
METHOD:PUBLISH
X-WR-CALNAME:The Church of St. Paul in the Desert
X-ORIGINAL-URL:https://stpauldesert.church
X-WR-CALDESC:Events for The Church of St. Paul in the Desert
REFRESH-INTERVAL;VALUE=DURATION:PT1H
X-Robots-Tag:noindex
X-PUBLISHED-TTL:PT1H
BEGIN:VTIMEZONE
TZID:America/Los_Angeles
BEGIN:DAYLIGHT
TZOFFSETFROM:-0800
TZOFFSETTO:-0700
TZNAME:PDT
DTSTART:20250309T100000
END:DAYLIGHT
BEGIN:STANDARD
TZOFFSETFROM:-0700
TZOFFSETTO:-0800
TZNAME:PST
DTSTART:20251102T090000
END:STANDARD
BEGIN:DAYLIGHT
TZOFFSETFROM:-0800
TZOFFSETTO:-0700
TZNAME:PDT
DTSTART:20260308T100000
END:DAYLIGHT
BEGIN:STANDARD
TZOFFSETFROM:-0700
TZOFFSETTO:-0800
TZNAME:PST
DTSTART:20261101T090000
END:STANDARD
BEGIN:DAYLIGHT
TZOFFSETFROM:-0800
TZOFFSETTO:-0700
TZNAME:PDT
DTSTART:20270314T100000
END:DAYLIGHT
BEGIN:STANDARD
TZOFFSETFROM:-0700
TZOFFSETTO:-0800
TZNAME:PST
DTSTART:20271107T090000
END:STANDARD
END:VTIMEZONE
BEGIN:VEVENT
DTSTART;TZID=America/Los_Angeles:20260531T103000
DTEND;TZID=America/Los_Angeles:20260531T120000
DTSTAMP:20260424T035330
CREATED:20260420T171116Z
LAST-MODIFIED:20260420T171116Z
UID:10002193-1780223400-1780228800@stpauldesert.church
SUMMARY:Choral Eucharist
DESCRIPTION:A full\, festive Eucharistic service using Rite II liturgy\, with choral and congregational music led by choir and organ\, offering a rich Anglican worship experience. This is our only regularly livestreamed service.
URL:https://stpauldesert.church/event/choral-eucharist/2026-05-31/
LOCATION:The Church of St. Paul in the Desert\, 125 West El Alameda\, Palm Springs\, CA\, 92262\, United States
END:VEVENT
BEGIN:VEVENT
DTSTART;TZID=America/Los_Angeles:20260607T103000
DTEND;TZID=America/Los_Angeles:20260607T120000
DTSTAMP:20260424T035330
CREATED:20260420T171116Z
LAST-MODIFIED:20260420T171116Z
UID:10002194-1780828200-1780833600@stpauldesert.church
SUMMARY:Choral Eucharist
DESCRIPTION:A full\, festive Eucharistic service using Rite II liturgy\, with choral and congregational music led by choir and organ\, offering a rich Anglican worship experience. This is our only regularly livestreamed service.
URL:https://stpauldesert.church/event/choral-eucharist/2026-06-07/
LOCATION:The Church of St. Paul in the Desert\, 125 West El Alameda\, Palm Springs\, CA\, 92262\, United States
END:VEVENT
BEGIN:VEVENT
DTSTART;TZID=America/Los_Angeles:20260614T103000
DTEND;TZID=America/Los_Angeles:20260614T120000
DTSTAMP:20260424T035330
CREATED:20260420T171116Z
LAST-MODIFIED:20260420T171116Z
UID:10002195-1781433000-1781438400@stpauldesert.church
SUMMARY:Choral Eucharist
DESCRIPTION:A full\, festive Eucharistic service using Rite II liturgy\, with choral and congregational music led by choir and organ\, offering a rich Anglican worship experience. This is our only regularly livestreamed service.
URL:https://stpauldesert.church/event/choral-eucharist/2026-06-14/
LOCATION:The Church of St. Paul in the Desert\, 125 West El Alameda\, Palm Springs\, CA\, 92262\, United States
END:VEVENT
BEGIN:VEVENT
DTSTART;TZID=America/Los_Angeles:20260621T103000
DTEND;TZID=America/Los_Angeles:20260621T120000
DTSTAMP:20260424T035330
CREATED:20260420T171116Z
LAST-MODIFIED:20260420T171116Z
UID:10002196-1782037800-1782043200@stpauldesert.church
SUMMARY:Choral Eucharist
DESCRIPTION:A full\, festive Eucharistic service using Rite II liturgy\, with choral and congregational music led by choir and organ\, offering a rich Anglican worship experience. This is our only regularly livestreamed service.
URL:https://stpauldesert.church/event/choral-eucharist/2026-06-21/
LOCATION:The Church of St. Paul in the Desert\, 125 West El Alameda\, Palm Springs\, CA\, 92262\, United States
END:VEVENT
BEGIN:VEVENT
DTSTART;TZID=America/Los_Angeles:20260628T103000
DTEND;TZID=America/Los_Angeles:20260628T120000
DTSTAMP:20260424T035330
CREATED:20260420T171116Z
LAST-MODIFIED:20260420T171116Z
UID:10002197-1782642600-1782648000@stpauldesert.church
SUMMARY:Choral Eucharist
DESCRIPTION:A full\, festive Eucharistic service using Rite II liturgy\, with choral and congregational music led by choir and organ\, offering a rich Anglican worship experience. This is our only regularly livestreamed service.
URL:https://stpauldesert.church/event/choral-eucharist/2026-06-28/
LOCATION:The Church of St. Paul in the Desert\, 125 West El Alameda\, Palm Springs\, CA\, 92262\, United States
END:VEVENT
BEGIN:VEVENT
DTSTART;TZID=America/Los_Angeles:20260705T103000
DTEND;TZID=America/Los_Angeles:20260705T120000
DTSTAMP:20260424T035330
CREATED:20260420T171116Z
LAST-MODIFIED:20260420T171116Z
UID:10002198-1783247400-1783252800@stpauldesert.church
SUMMARY:Choral Eucharist
DESCRIPTION:A full\, festive Eucharistic service using Rite II liturgy\, with choral and congregational music led by choir and organ\, offering a rich Anglican worship experience. This is our only regularly livestreamed service.
URL:https://stpauldesert.church/event/choral-eucharist/2026-07-05/
LOCATION:The Church of St. Paul in the Desert\, 125 West El Alameda\, Palm Springs\, CA\, 92262\, United States
END:VEVENT
BEGIN:VEVENT
DTSTART;TZID=America/Los_Angeles:20260712T103000
DTEND;TZID=America/Los_Angeles:20260712T120000
DTSTAMP:20260424T035330
CREATED:20260420T171116Z
LAST-MODIFIED:20260420T171116Z
UID:10002199-1783852200-1783857600@stpauldesert.church
SUMMARY:Choral Eucharist
DESCRIPTION:A full\, festive Eucharistic service using Rite II liturgy\, with choral and congregational music led by choir and organ\, offering a rich Anglican worship experience. This is our only regularly livestreamed service.
URL:https://stpauldesert.church/event/choral-eucharist/2026-07-12/
LOCATION:The Church of St. Paul in the Desert\, 125 West El Alameda\, Palm Springs\, CA\, 92262\, United States
END:VEVENT
BEGIN:VEVENT
DTSTART;TZID=America/Los_Angeles:20260719T103000
DTEND;TZID=America/Los_Angeles:20260719T120000
DTSTAMP:20260424T035330
CREATED:20260420T171116Z
LAST-MODIFIED:20260420T171116Z
UID:10002200-1784457000-1784462400@stpauldesert.church
SUMMARY:Choral Eucharist
DESCRIPTION:A full\, festive Eucharistic service using Rite II liturgy\, with choral and congregational music led by choir and organ\, offering a rich Anglican worship experience. This is our only regularly livestreamed service.
URL:https://stpauldesert.church/event/choral-eucharist/2026-07-19/
LOCATION:The Church of St. Paul in the Desert\, 125 West El Alameda\, Palm Springs\, CA\, 92262\, United States
END:VEVENT
BEGIN:VEVENT
DTSTART;TZID=America/Los_Angeles:20260726T103000
DTEND;TZID=America/Los_Angeles:20260726T120000
DTSTAMP:20260424T035330
CREATED:20260420T171116Z
LAST-MODIFIED:20260420T171116Z
UID:10002201-1785061800-1785067200@stpauldesert.church
SUMMARY:Choral Eucharist
DESCRIPTION:A full\, festive Eucharistic service using Rite II liturgy\, with choral and congregational music led by choir and organ\, offering a rich Anglican worship experience. This is our only regularly livestreamed service.
URL:https://stpauldesert.church/event/choral-eucharist/2026-07-26/
LOCATION:The Church of St. Paul in the Desert\, 125 West El Alameda\, Palm Springs\, CA\, 92262\, United States
END:VEVENT
BEGIN:VEVENT
DTSTART;TZID=America/Los_Angeles:20260802T103000
DTEND;TZID=America/Los_Angeles:20260802T120000
DTSTAMP:20260424T035330
CREATED:20260420T171116Z
LAST-MODIFIED:20260420T171116Z
UID:10002202-1785666600-1785672000@stpauldesert.church
SUMMARY:Choral Eucharist
DESCRIPTION:A full\, festive Eucharistic service using Rite II liturgy\, with choral and congregational music led by choir and organ\, offering a rich Anglican worship experience. This is our only regularly livestreamed service.
URL:https://stpauldesert.church/event/choral-eucharist/2026-08-02/
LOCATION:The Church of St. Paul in the Desert\, 125 West El Alameda\, Palm Springs\, CA\, 92262\, United States
END:VEVENT
BEGIN:VEVENT
DTSTART;TZID=America/Los_Angeles:20260809T103000
DTEND;TZID=America/Los_Angeles:20260809T120000
DTSTAMP:20260424T035330
CREATED:20260420T171116Z
LAST-MODIFIED:20260420T171116Z
UID:10002203-1786271400-1786276800@stpauldesert.church
SUMMARY:Choral Eucharist
DESCRIPTION:A full\, festive Eucharistic service using Rite II liturgy\, with choral and congregational music led by choir and organ\, offering a rich Anglican worship experience. This is our only regularly livestreamed service.
URL:https://stpauldesert.church/event/choral-eucharist/2026-08-09/
LOCATION:The Church of St. Paul in the Desert\, 125 West El Alameda\, Palm Springs\, CA\, 92262\, United States
END:VEVENT
BEGIN:VEVENT
DTSTART;TZID=America/Los_Angeles:20260816T103000
DTEND;TZID=America/Los_Angeles:20260816T120000
DTSTAMP:20260424T035330
CREATED:20260420T171116Z
LAST-MODIFIED:20260420T171116Z
UID:10002204-1786876200-1786881600@stpauldesert.church
SUMMARY:Choral Eucharist
DESCRIPTION:A full\, festive Eucharistic service using Rite II liturgy\, with choral and congregational music led by choir and organ\, offering a rich Anglican worship experience. This is our only regularly livestreamed service.
URL:https://stpauldesert.church/event/choral-eucharist/2026-08-16/
LOCATION:The Church of St. Paul in the Desert\, 125 West El Alameda\, Palm Springs\, CA\, 92262\, United States
END:VEVENT
BEGIN:VEVENT
DTSTART;TZID=America/Los_Angeles:20260823T103000
DTEND;TZID=America/Los_Angeles:20260823T120000
DTSTAMP:20260424T035330
CREATED:20260420T171116Z
LAST-MODIFIED:20260420T171116Z
UID:10002205-1787481000-1787486400@stpauldesert.church
SUMMARY:Choral Eucharist
DESCRIPTION:A full\, festive Eucharistic service using Rite II liturgy\, with choral and congregational music led by choir and organ\, offering a rich Anglican worship experience. This is our only regularly livestreamed service.
URL:https://stpauldesert.church/event/choral-eucharist/2026-08-23/
LOCATION:The Church of St. Paul in the Desert\, 125 West El Alameda\, Palm Springs\, CA\, 92262\, United States
END:VEVENT
BEGIN:VEVENT
DTSTART;TZID=America/Los_Angeles:20260830T103000
DTEND;TZID=America/Los_Angeles:20260830T120000
DTSTAMP:20260424T035330
CREATED:20260420T171116Z
LAST-MODIFIED:20260420T171116Z
UID:10002206-1788085800-1788091200@stpauldesert.church
SUMMARY:Choral Eucharist
DESCRIPTION:A full\, festive Eucharistic service using Rite II liturgy\, with choral and congregational music led by choir and organ\, offering a rich Anglican worship experience. This is our only regularly livestreamed service.
URL:https://stpauldesert.church/event/choral-eucharist/2026-08-30/
LOCATION:The Church of St. Paul in the Desert\, 125 West El Alameda\, Palm Springs\, CA\, 92262\, United States
END:VEVENT
BEGIN:VEVENT
DTSTART;TZID=America/Los_Angeles:20260906T103000
DTEND;TZID=America/Los_Angeles:20260906T120000
DTSTAMP:20260424T035330
CREATED:20260420T171116Z
LAST-MODIFIED:20260420T171116Z
UID:10002207-1788690600-1788696000@stpauldesert.church
SUMMARY:Choral Eucharist
DESCRIPTION:A full\, festive Eucharistic service using Rite II liturgy\, with choral and congregational music led by choir and organ\, offering a rich Anglican worship experience. This is our only regularly livestreamed service.
URL:https://stpauldesert.church/event/choral-eucharist/2026-09-06/
LOCATION:The Church of St. Paul in the Desert\, 125 West El Alameda\, Palm Springs\, CA\, 92262\, United States
END:VEVENT
BEGIN:VEVENT
DTSTART;TZID=America/Los_Angeles:20260913T103000
DTEND;TZID=America/Los_Angeles:20260913T120000
DTSTAMP:20260424T035330
CREATED:20260420T171116Z
LAST-MODIFIED:20260420T171116Z
UID:10002208-1789295400-1789300800@stpauldesert.church
SUMMARY:Choral Eucharist
DESCRIPTION:A full\, festive Eucharistic service using Rite II liturgy\, with choral and congregational music led by choir and organ\, offering a rich Anglican worship experience. This is our only regularly livestreamed service.
URL:https://stpauldesert.church/event/choral-eucharist/2026-09-13/
LOCATION:The Church of St. Paul in the Desert\, 125 West El Alameda\, Palm Springs\, CA\, 92262\, United States
END:VEVENT
BEGIN:VEVENT
DTSTART;TZID=America/Los_Angeles:20260920T103000
DTEND;TZID=America/Los_Angeles:20260920T120000
DTSTAMP:20260424T035330
CREATED:20260420T171116Z
LAST-MODIFIED:20260420T171116Z
UID:10002209-1789900200-1789905600@stpauldesert.church
SUMMARY:Choral Eucharist
DESCRIPTION:A full\, festive Eucharistic service using Rite II liturgy\, with choral and congregational music led by choir and organ\, offering a rich Anglican worship experience. This is our only regularly livestreamed service.
URL:https://stpauldesert.church/event/choral-eucharist/2026-09-20/
LOCATION:The Church of St. Paul in the Desert\, 125 West El Alameda\, Palm Springs\, CA\, 92262\, United States
END:VEVENT
BEGIN:VEVENT
DTSTART;TZID=America/Los_Angeles:20260927T103000
DTEND;TZID=America/Los_Angeles:20260927T120000
DTSTAMP:20260424T035330
CREATED:20260420T171116Z
LAST-MODIFIED:20260420T171116Z
UID:10002210-1790505000-1790510400@stpauldesert.church
SUMMARY:Choral Eucharist
DESCRIPTION:A full\, festive Eucharistic service using Rite II liturgy\, with choral and congregational music led by choir and organ\, offering a rich Anglican worship experience. This is our only regularly livestreamed service.
URL:https://stpauldesert.church/event/choral-eucharist/2026-09-27/
LOCATION:The Church of St. Paul in the Desert\, 125 West El Alameda\, Palm Springs\, CA\, 92262\, United States
END:VEVENT
BEGIN:VEVENT
DTSTART;TZID=America/Los_Angeles:20261004T103000
DTEND;TZID=America/Los_Angeles:20261004T120000
DTSTAMP:20260424T035330
CREATED:20260420T171116Z
LAST-MODIFIED:20260420T171116Z
UID:10002211-1791109800-1791115200@stpauldesert.church
SUMMARY:Choral Eucharist
DESCRIPTION:A full\, festive Eucharistic service using Rite II liturgy\, with choral and congregational music led by choir and organ\, offering a rich Anglican worship experience. This is our only regularly livestreamed service.
URL:https://stpauldesert.church/event/choral-eucharist/2026-10-04/
LOCATION:The Church of St. Paul in the Desert\, 125 West El Alameda\, Palm Springs\, CA\, 92262\, United States
END:VEVENT
BEGIN:VEVENT
DTSTART;TZID=America/Los_Angeles:20261011T103000
DTEND;TZID=America/Los_Angeles:20261011T120000
DTSTAMP:20260424T035330
CREATED:20260420T171116Z
LAST-MODIFIED:20260420T171116Z
UID:10002212-1791714600-1791720000@stpauldesert.church
SUMMARY:Choral Eucharist
DESCRIPTION:A full\, festive Eucharistic service using Rite II liturgy\, with choral and congregational music led by choir and organ\, offering a rich Anglican worship experience. This is our only regularly livestreamed service.
URL:https://stpauldesert.church/event/choral-eucharist/2026-10-11/
LOCATION:The Church of St. Paul in the Desert\, 125 West El Alameda\, Palm Springs\, CA\, 92262\, United States
END:VEVENT
BEGIN:VEVENT
DTSTART;TZID=America/Los_Angeles:20261018T103000
DTEND;TZID=America/Los_Angeles:20261018T120000
DTSTAMP:20260424T035330
CREATED:20260420T171116Z
LAST-MODIFIED:20260420T171116Z
UID:10002213-1792319400-1792324800@stpauldesert.church
SUMMARY:Choral Eucharist
DESCRIPTION:A full\, festive Eucharistic service using Rite II liturgy\, with choral and congregational music led by choir and organ\, offering a rich Anglican worship experience. This is our only regularly livestreamed service.
URL:https://stpauldesert.church/event/choral-eucharist/2026-10-18/
LOCATION:The Church of St. Paul in the Desert\, 125 West El Alameda\, Palm Springs\, CA\, 92262\, United States
END:VEVENT
BEGIN:VEVENT
DTSTART;TZID=America/Los_Angeles:20261025T103000
DTEND;TZID=America/Los_Angeles:20261025T120000
DTSTAMP:20260424T035330
CREATED:20260420T171116Z
LAST-MODIFIED:20260420T171116Z
UID:10002214-1792924200-1792929600@stpauldesert.church
SUMMARY:Choral Eucharist
DESCRIPTION:A full\, festive Eucharistic service using Rite II liturgy\, with choral and congregational music led by choir and organ\, offering a rich Anglican worship experience. This is our only regularly livestreamed service.
URL:https://stpauldesert.church/event/choral-eucharist/2026-10-25/
LOCATION:The Church of St. Paul in the Desert\, 125 West El Alameda\, Palm Springs\, CA\, 92262\, United States
END:VEVENT
END:VCALENDAR