BEGIN:VCALENDAR
VERSION:2.0
PRODID:-//The Church of St. Paul in the Desert - ECPv6.15.17.1//NONSGML v1.0//EN
CALSCALE:GREGORIAN
METHOD:PUBLISH
X-ORIGINAL-URL:https://stpauldesert.church
X-WR-CALDESC:Events for The Church of St. Paul in the Desert
REFRESH-INTERVAL;VALUE=DURATION:PT1H
X-Robots-Tag:noindex
X-PUBLISHED-TTL:PT1H
BEGIN:VTIMEZONE
TZID:America/Los_Angeles
BEGIN:DAYLIGHT
TZOFFSETFROM:-0800
TZOFFSETTO:-0700
TZNAME:PDT
DTSTART:20260308T100000
END:DAYLIGHT
BEGIN:STANDARD
TZOFFSETFROM:-0700
TZOFFSETTO:-0800
TZNAME:PST
DTSTART:20261101T090000
END:STANDARD
BEGIN:DAYLIGHT
TZOFFSETFROM:-0800
TZOFFSETTO:-0700
TZNAME:PDT
DTSTART:20270314T100000
END:DAYLIGHT
BEGIN:STANDARD
TZOFFSETFROM:-0700
TZOFFSETTO:-0800
TZNAME:PST
DTSTART:20271107T090000
END:STANDARD
BEGIN:DAYLIGHT
TZOFFSETFROM:-0800
TZOFFSETTO:-0700
TZNAME:PDT
DTSTART:20280312T100000
END:DAYLIGHT
BEGIN:STANDARD
TZOFFSETFROM:-0700
TZOFFSETTO:-0800
TZNAME:PST
DTSTART:20281105T090000
END:STANDARD
END:VTIMEZONE
BEGIN:VEVENT
DTSTART;TZID=America/Los_Angeles:20270414T180000
DTEND;TZID=America/Los_Angeles:20270414T190000
DTSTAMP:20260424T040436
CREATED:20260420T163741Z
LAST-MODIFIED:20260420T163741Z
UID:10002027-1807725600-1807729200@stpauldesert.church
SUMMARY:Simple Spoken Eucharist
DESCRIPTION:
URL:https://stpauldesert.church/event/simple-spoken-eucharist-4/2027-04-14/
LOCATION:The Church of St. Paul in the Desert\, 125 West El Alameda\, Palm Springs\, CA\, 92262\, United States
END:VEVENT
BEGIN:VEVENT
DTSTART;TZID=America/Los_Angeles:20270421T180000
DTEND;TZID=America/Los_Angeles:20270421T190000
DTSTAMP:20260424T040436
CREATED:20260420T163741Z
LAST-MODIFIED:20260420T163741Z
UID:10002028-1808330400-1808334000@stpauldesert.church
SUMMARY:Simple Spoken Eucharist
DESCRIPTION:
URL:https://stpauldesert.church/event/simple-spoken-eucharist-4/2027-04-21/
LOCATION:The Church of St. Paul in the Desert\, 125 West El Alameda\, Palm Springs\, CA\, 92262\, United States
END:VEVENT
BEGIN:VEVENT
DTSTART;TZID=America/Los_Angeles:20270428T180000
DTEND;TZID=America/Los_Angeles:20270428T190000
DTSTAMP:20260424T040436
CREATED:20260420T163741Z
LAST-MODIFIED:20260420T163741Z
UID:10002029-1808935200-1808938800@stpauldesert.church
SUMMARY:Simple Spoken Eucharist
DESCRIPTION:
URL:https://stpauldesert.church/event/simple-spoken-eucharist-4/2027-04-28/
LOCATION:The Church of St. Paul in the Desert\, 125 West El Alameda\, Palm Springs\, CA\, 92262\, United States
END:VEVENT
BEGIN:VEVENT
DTSTART;TZID=America/Los_Angeles:20270505T180000
DTEND;TZID=America/Los_Angeles:20270505T190000
DTSTAMP:20260424T040436
CREATED:20260420T163741Z
LAST-MODIFIED:20260420T163741Z
UID:10002030-1809540000-1809543600@stpauldesert.church
SUMMARY:Simple Spoken Eucharist
DESCRIPTION:
URL:https://stpauldesert.church/event/simple-spoken-eucharist-4/2027-05-05/
LOCATION:The Church of St. Paul in the Desert\, 125 West El Alameda\, Palm Springs\, CA\, 92262\, United States
END:VEVENT
BEGIN:VEVENT
DTSTART;TZID=America/Los_Angeles:20270512T180000
DTEND;TZID=America/Los_Angeles:20270512T190000
DTSTAMP:20260424T040436
CREATED:20260420T163741Z
LAST-MODIFIED:20260420T163741Z
UID:10002031-1810144800-1810148400@stpauldesert.church
SUMMARY:Simple Spoken Eucharist
DESCRIPTION:
URL:https://stpauldesert.church/event/simple-spoken-eucharist-4/2027-05-12/
LOCATION:The Church of St. Paul in the Desert\, 125 West El Alameda\, Palm Springs\, CA\, 92262\, United States
END:VEVENT
BEGIN:VEVENT
DTSTART;TZID=America/Los_Angeles:20270519T180000
DTEND;TZID=America/Los_Angeles:20270519T190000
DTSTAMP:20260424T040436
CREATED:20260420T163741Z
LAST-MODIFIED:20260420T163741Z
UID:10002032-1810749600-1810753200@stpauldesert.church
SUMMARY:Simple Spoken Eucharist
DESCRIPTION:
URL:https://stpauldesert.church/event/simple-spoken-eucharist-4/2027-05-19/
LOCATION:The Church of St. Paul in the Desert\, 125 West El Alameda\, Palm Springs\, CA\, 92262\, United States
END:VEVENT
BEGIN:VEVENT
DTSTART;TZID=America/Los_Angeles:20270526T180000
DTEND;TZID=America/Los_Angeles:20270526T190000
DTSTAMP:20260424T040436
CREATED:20260420T163741Z
LAST-MODIFIED:20260420T163741Z
UID:10002033-1811354400-1811358000@stpauldesert.church
SUMMARY:Simple Spoken Eucharist
DESCRIPTION:
URL:https://stpauldesert.church/event/simple-spoken-eucharist-4/2027-05-26/
LOCATION:The Church of St. Paul in the Desert\, 125 West El Alameda\, Palm Springs\, CA\, 92262\, United States
END:VEVENT
BEGIN:VEVENT
DTSTART;TZID=America/Los_Angeles:20270602T180000
DTEND;TZID=America/Los_Angeles:20270602T190000
DTSTAMP:20260424T040436
CREATED:20260420T163741Z
LAST-MODIFIED:20260420T163741Z
UID:10002034-1811959200-1811962800@stpauldesert.church
SUMMARY:Simple Spoken Eucharist
DESCRIPTION:
URL:https://stpauldesert.church/event/simple-spoken-eucharist-4/2027-06-02/
LOCATION:The Church of St. Paul in the Desert\, 125 West El Alameda\, Palm Springs\, CA\, 92262\, United States
END:VEVENT
BEGIN:VEVENT
DTSTART;TZID=America/Los_Angeles:20270609T180000
DTEND;TZID=America/Los_Angeles:20270609T190000
DTSTAMP:20260424T040436
CREATED:20260420T163741Z
LAST-MODIFIED:20260420T163741Z
UID:10002035-1812564000-1812567600@stpauldesert.church
SUMMARY:Simple Spoken Eucharist
DESCRIPTION:
URL:https://stpauldesert.church/event/simple-spoken-eucharist-4/2027-06-09/
LOCATION:The Church of St. Paul in the Desert\, 125 West El Alameda\, Palm Springs\, CA\, 92262\, United States
END:VEVENT
BEGIN:VEVENT
DTSTART;TZID=America/Los_Angeles:20270616T180000
DTEND;TZID=America/Los_Angeles:20270616T190000
DTSTAMP:20260424T040436
CREATED:20260420T163741Z
LAST-MODIFIED:20260420T163741Z
UID:10002036-1813168800-1813172400@stpauldesert.church
SUMMARY:Simple Spoken Eucharist
DESCRIPTION:
URL:https://stpauldesert.church/event/simple-spoken-eucharist-4/2027-06-16/
LOCATION:The Church of St. Paul in the Desert\, 125 West El Alameda\, Palm Springs\, CA\, 92262\, United States
END:VEVENT
BEGIN:VEVENT
DTSTART;TZID=America/Los_Angeles:20270623T180000
DTEND;TZID=America/Los_Angeles:20270623T190000
DTSTAMP:20260424T040436
CREATED:20260420T163741Z
LAST-MODIFIED:20260420T163741Z
UID:10002037-1813773600-1813777200@stpauldesert.church
SUMMARY:Simple Spoken Eucharist
DESCRIPTION:
URL:https://stpauldesert.church/event/simple-spoken-eucharist-4/2027-06-23/
LOCATION:The Church of St. Paul in the Desert\, 125 West El Alameda\, Palm Springs\, CA\, 92262\, United States
END:VEVENT
BEGIN:VEVENT
DTSTART;TZID=America/Los_Angeles:20270630T180000
DTEND;TZID=America/Los_Angeles:20270630T190000
DTSTAMP:20260424T040436
CREATED:20260420T163741Z
LAST-MODIFIED:20260420T163741Z
UID:10002038-1814378400-1814382000@stpauldesert.church
SUMMARY:Simple Spoken Eucharist
DESCRIPTION:
URL:https://stpauldesert.church/event/simple-spoken-eucharist-4/2027-06-30/
LOCATION:The Church of St. Paul in the Desert\, 125 West El Alameda\, Palm Springs\, CA\, 92262\, United States
END:VEVENT
BEGIN:VEVENT
DTSTART;TZID=America/Los_Angeles:20270707T180000
DTEND;TZID=America/Los_Angeles:20270707T190000
DTSTAMP:20260424T040436
CREATED:20260420T163741Z
LAST-MODIFIED:20260420T163741Z
UID:10002039-1814983200-1814986800@stpauldesert.church
SUMMARY:Simple Spoken Eucharist
DESCRIPTION:
URL:https://stpauldesert.church/event/simple-spoken-eucharist-4/2027-07-07/
LOCATION:The Church of St. Paul in the Desert\, 125 West El Alameda\, Palm Springs\, CA\, 92262\, United States
END:VEVENT
BEGIN:VEVENT
DTSTART;TZID=America/Los_Angeles:20270714T180000
DTEND;TZID=America/Los_Angeles:20270714T190000
DTSTAMP:20260424T040436
CREATED:20260420T163741Z
LAST-MODIFIED:20260420T163741Z
UID:10002040-1815588000-1815591600@stpauldesert.church
SUMMARY:Simple Spoken Eucharist
DESCRIPTION:
URL:https://stpauldesert.church/event/simple-spoken-eucharist-4/2027-07-14/
LOCATION:The Church of St. Paul in the Desert\, 125 West El Alameda\, Palm Springs\, CA\, 92262\, United States
END:VEVENT
BEGIN:VEVENT
DTSTART;TZID=America/Los_Angeles:20270721T180000
DTEND;TZID=America/Los_Angeles:20270721T190000
DTSTAMP:20260424T040436
CREATED:20260420T163741Z
LAST-MODIFIED:20260420T163741Z
UID:10002041-1816192800-1816196400@stpauldesert.church
SUMMARY:Simple Spoken Eucharist
DESCRIPTION:
URL:https://stpauldesert.church/event/simple-spoken-eucharist-4/2027-07-21/
LOCATION:The Church of St. Paul in the Desert\, 125 West El Alameda\, Palm Springs\, CA\, 92262\, United States
END:VEVENT
BEGIN:VEVENT
DTSTART;TZID=America/Los_Angeles:20270728T180000
DTEND;TZID=America/Los_Angeles:20270728T190000
DTSTAMP:20260424T040436
CREATED:20260420T163741Z
LAST-MODIFIED:20260420T163741Z
UID:10002042-1816797600-1816801200@stpauldesert.church
SUMMARY:Simple Spoken Eucharist
DESCRIPTION:
URL:https://stpauldesert.church/event/simple-spoken-eucharist-4/2027-07-28/
LOCATION:The Church of St. Paul in the Desert\, 125 West El Alameda\, Palm Springs\, CA\, 92262\, United States
END:VEVENT
END:VCALENDAR