BEGIN:VCALENDAR
VERSION:2.0
PRODID:-//The Church of St. Paul in the Desert - ECPv6.15.17.1//NONSGML v1.0//EN
CALSCALE:GREGORIAN
METHOD:PUBLISH
X-WR-CALNAME:The Church of St. Paul in the Desert
X-ORIGINAL-URL:https://stpauldesert.church
X-WR-CALDESC:Events for The Church of St. Paul in the Desert
REFRESH-INTERVAL;VALUE=DURATION:PT1H
X-Robots-Tag:noindex
X-PUBLISHED-TTL:PT1H
BEGIN:VTIMEZONE
TZID:America/Los_Angeles
BEGIN:DAYLIGHT
TZOFFSETFROM:-0800
TZOFFSETTO:-0700
TZNAME:PDT
DTSTART:20250309T100000
END:DAYLIGHT
BEGIN:STANDARD
TZOFFSETFROM:-0700
TZOFFSETTO:-0800
TZNAME:PST
DTSTART:20251102T090000
END:STANDARD
BEGIN:DAYLIGHT
TZOFFSETFROM:-0800
TZOFFSETTO:-0700
TZNAME:PDT
DTSTART:20260308T100000
END:DAYLIGHT
BEGIN:STANDARD
TZOFFSETFROM:-0700
TZOFFSETTO:-0800
TZNAME:PST
DTSTART:20261101T090000
END:STANDARD
BEGIN:DAYLIGHT
TZOFFSETFROM:-0800
TZOFFSETTO:-0700
TZNAME:PDT
DTSTART:20270314T100000
END:DAYLIGHT
BEGIN:STANDARD
TZOFFSETFROM:-0700
TZOFFSETTO:-0800
TZNAME:PST
DTSTART:20271107T090000
END:STANDARD
BEGIN:DAYLIGHT
TZOFFSETFROM:-0800
TZOFFSETTO:-0700
TZNAME:PDT
DTSTART:20280312T100000
END:DAYLIGHT
BEGIN:STANDARD
TZOFFSETFROM:-0700
TZOFFSETTO:-0800
TZNAME:PST
DTSTART:20281105T090000
END:STANDARD
END:VTIMEZONE
BEGIN:VEVENT
DTSTART;TZID=America/Los_Angeles:20261216T180000
DTEND;TZID=America/Los_Angeles:20261216T190000
DTSTAMP:20260422T012950
CREATED:20260420T163741Z
LAST-MODIFIED:20260420T163741Z
UID:10002010-1797444000-1797447600@stpauldesert.church
SUMMARY:Simple Spoken Eucharist
DESCRIPTION:
URL:https://stpauldesert.church/event/simple-spoken-eucharist-4/2026-12-16/
LOCATION:The Church of St. Paul in the Desert\, 125 West El Alameda\, Palm Springs\, CA\, 92262\, United States
END:VEVENT
BEGIN:VEVENT
DTSTART;VALUE=DATE:20261218
DTEND;VALUE=DATE:20261219
DTSTAMP:20260422T012950
CREATED:20260115T044156Z
LAST-MODIFIED:20260117T061023Z
UID:10000376-1797552000-1797638399@stpauldesert.church
SUMMARY:Office Closed
DESCRIPTION:
URL:https://stpauldesert.church/event/office-closed/2026-12-18/
LOCATION:CA
END:VEVENT
BEGIN:VEVENT
DTSTART;TZID=America/Los_Angeles:20261223T180000
DTEND;TZID=America/Los_Angeles:20261223T190000
DTSTAMP:20260422T012950
CREATED:20260420T163741Z
LAST-MODIFIED:20260420T163741Z
UID:10002011-1798048800-1798052400@stpauldesert.church
SUMMARY:Simple Spoken Eucharist
DESCRIPTION:
URL:https://stpauldesert.church/event/simple-spoken-eucharist-4/2026-12-23/
LOCATION:The Church of St. Paul in the Desert\, 125 West El Alameda\, Palm Springs\, CA\, 92262\, United States
END:VEVENT
BEGIN:VEVENT
DTSTART;VALUE=DATE:20261225
DTEND;VALUE=DATE:20261226
DTSTAMP:20260422T012950
CREATED:20260115T044156Z
LAST-MODIFIED:20260117T061023Z
UID:10000377-1798156800-1798243199@stpauldesert.church
SUMMARY:Office Closed
DESCRIPTION:
URL:https://stpauldesert.church/event/office-closed/2026-12-25/
LOCATION:CA
END:VEVENT
BEGIN:VEVENT
DTSTART;TZID=America/Los_Angeles:20261230T180000
DTEND;TZID=America/Los_Angeles:20261230T190000
DTSTAMP:20260422T012950
CREATED:20260420T163741Z
LAST-MODIFIED:20260420T163741Z
UID:10002012-1798653600-1798657200@stpauldesert.church
SUMMARY:Simple Spoken Eucharist
DESCRIPTION:
URL:https://stpauldesert.church/event/simple-spoken-eucharist-4/2026-12-30/
LOCATION:The Church of St. Paul in the Desert\, 125 West El Alameda\, Palm Springs\, CA\, 92262\, United States
END:VEVENT
BEGIN:VEVENT
DTSTART;TZID=America/Los_Angeles:20270106T180000
DTEND;TZID=America/Los_Angeles:20270106T190000
DTSTAMP:20260422T012950
CREATED:20260420T163741Z
LAST-MODIFIED:20260420T163741Z
UID:10002013-1799258400-1799262000@stpauldesert.church
SUMMARY:Simple Spoken Eucharist
DESCRIPTION:
URL:https://stpauldesert.church/event/simple-spoken-eucharist-4/2027-01-06/
LOCATION:The Church of St. Paul in the Desert\, 125 West El Alameda\, Palm Springs\, CA\, 92262\, United States
END:VEVENT
BEGIN:VEVENT
DTSTART;TZID=America/Los_Angeles:20270113T180000
DTEND;TZID=America/Los_Angeles:20270113T190000
DTSTAMP:20260422T012950
CREATED:20260420T163741Z
LAST-MODIFIED:20260420T163741Z
UID:10002014-1799863200-1799866800@stpauldesert.church
SUMMARY:Simple Spoken Eucharist
DESCRIPTION:
URL:https://stpauldesert.church/event/simple-spoken-eucharist-4/2027-01-13/
LOCATION:The Church of St. Paul in the Desert\, 125 West El Alameda\, Palm Springs\, CA\, 92262\, United States
END:VEVENT
BEGIN:VEVENT
DTSTART;TZID=America/Los_Angeles:20270120T180000
DTEND;TZID=America/Los_Angeles:20270120T190000
DTSTAMP:20260422T012950
CREATED:20260420T163741Z
LAST-MODIFIED:20260420T163741Z
UID:10002015-1800468000-1800471600@stpauldesert.church
SUMMARY:Simple Spoken Eucharist
DESCRIPTION:
URL:https://stpauldesert.church/event/simple-spoken-eucharist-4/2027-01-20/
LOCATION:The Church of St. Paul in the Desert\, 125 West El Alameda\, Palm Springs\, CA\, 92262\, United States
END:VEVENT
BEGIN:VEVENT
DTSTART;TZID=America/Los_Angeles:20270127T180000
DTEND;TZID=America/Los_Angeles:20270127T190000
DTSTAMP:20260422T012950
CREATED:20260420T163741Z
LAST-MODIFIED:20260420T163741Z
UID:10002016-1801072800-1801076400@stpauldesert.church
SUMMARY:Simple Spoken Eucharist
DESCRIPTION:
URL:https://stpauldesert.church/event/simple-spoken-eucharist-4/2027-01-27/
LOCATION:The Church of St. Paul in the Desert\, 125 West El Alameda\, Palm Springs\, CA\, 92262\, United States
END:VEVENT
BEGIN:VEVENT
DTSTART;TZID=America/Los_Angeles:20270203T180000
DTEND;TZID=America/Los_Angeles:20270203T190000
DTSTAMP:20260422T012950
CREATED:20260420T163741Z
LAST-MODIFIED:20260420T163741Z
UID:10002017-1801677600-1801681200@stpauldesert.church
SUMMARY:Simple Spoken Eucharist
DESCRIPTION:
URL:https://stpauldesert.church/event/simple-spoken-eucharist-4/2027-02-03/
LOCATION:The Church of St. Paul in the Desert\, 125 West El Alameda\, Palm Springs\, CA\, 92262\, United States
END:VEVENT
BEGIN:VEVENT
DTSTART;TZID=America/Los_Angeles:20270210T180000
DTEND;TZID=America/Los_Angeles:20270210T190000
DTSTAMP:20260422T012950
CREATED:20260420T163741Z
LAST-MODIFIED:20260420T163741Z
UID:10002018-1802282400-1802286000@stpauldesert.church
SUMMARY:Simple Spoken Eucharist
DESCRIPTION:
URL:https://stpauldesert.church/event/simple-spoken-eucharist-4/2027-02-10/
LOCATION:The Church of St. Paul in the Desert\, 125 West El Alameda\, Palm Springs\, CA\, 92262\, United States
END:VEVENT
BEGIN:VEVENT
DTSTART;TZID=America/Los_Angeles:20270217T180000
DTEND;TZID=America/Los_Angeles:20270217T190000
DTSTAMP:20260422T012950
CREATED:20260420T163741Z
LAST-MODIFIED:20260420T163741Z
UID:10002019-1802887200-1802890800@stpauldesert.church
SUMMARY:Simple Spoken Eucharist
DESCRIPTION:
URL:https://stpauldesert.church/event/simple-spoken-eucharist-4/2027-02-17/
LOCATION:The Church of St. Paul in the Desert\, 125 West El Alameda\, Palm Springs\, CA\, 92262\, United States
END:VEVENT
BEGIN:VEVENT
DTSTART;TZID=America/Los_Angeles:20270224T180000
DTEND;TZID=America/Los_Angeles:20270224T190000
DTSTAMP:20260422T012950
CREATED:20260420T163741Z
LAST-MODIFIED:20260420T163741Z
UID:10002020-1803492000-1803495600@stpauldesert.church
SUMMARY:Simple Spoken Eucharist
DESCRIPTION:
URL:https://stpauldesert.church/event/simple-spoken-eucharist-4/2027-02-24/
LOCATION:The Church of St. Paul in the Desert\, 125 West El Alameda\, Palm Springs\, CA\, 92262\, United States
END:VEVENT
BEGIN:VEVENT
DTSTART;TZID=America/Los_Angeles:20270303T180000
DTEND;TZID=America/Los_Angeles:20270303T190000
DTSTAMP:20260422T012950
CREATED:20260420T163741Z
LAST-MODIFIED:20260420T163741Z
UID:10002021-1804096800-1804100400@stpauldesert.church
SUMMARY:Simple Spoken Eucharist
DESCRIPTION:
URL:https://stpauldesert.church/event/simple-spoken-eucharist-4/2027-03-03/
LOCATION:The Church of St. Paul in the Desert\, 125 West El Alameda\, Palm Springs\, CA\, 92262\, United States
END:VEVENT
BEGIN:VEVENT
DTSTART;TZID=America/Los_Angeles:20270310T180000
DTEND;TZID=America/Los_Angeles:20270310T190000
DTSTAMP:20260422T012950
CREATED:20260420T163741Z
LAST-MODIFIED:20260420T163741Z
UID:10002022-1804701600-1804705200@stpauldesert.church
SUMMARY:Simple Spoken Eucharist
DESCRIPTION:
URL:https://stpauldesert.church/event/simple-spoken-eucharist-4/2027-03-10/
LOCATION:The Church of St. Paul in the Desert\, 125 West El Alameda\, Palm Springs\, CA\, 92262\, United States
END:VEVENT
BEGIN:VEVENT
DTSTART;TZID=America/Los_Angeles:20270317T180000
DTEND;TZID=America/Los_Angeles:20270317T190000
DTSTAMP:20260422T012950
CREATED:20260420T163741Z
LAST-MODIFIED:20260420T163741Z
UID:10002023-1805306400-1805310000@stpauldesert.church
SUMMARY:Simple Spoken Eucharist
DESCRIPTION:
URL:https://stpauldesert.church/event/simple-spoken-eucharist-4/2027-03-17/
LOCATION:The Church of St. Paul in the Desert\, 125 West El Alameda\, Palm Springs\, CA\, 92262\, United States
END:VEVENT
BEGIN:VEVENT
DTSTART;TZID=America/Los_Angeles:20270324T180000
DTEND;TZID=America/Los_Angeles:20270324T190000
DTSTAMP:20260422T012950
CREATED:20260420T163741Z
LAST-MODIFIED:20260420T163741Z
UID:10002024-1805911200-1805914800@stpauldesert.church
SUMMARY:Simple Spoken Eucharist
DESCRIPTION:
URL:https://stpauldesert.church/event/simple-spoken-eucharist-4/2027-03-24/
LOCATION:The Church of St. Paul in the Desert\, 125 West El Alameda\, Palm Springs\, CA\, 92262\, United States
END:VEVENT
BEGIN:VEVENT
DTSTART;TZID=America/Los_Angeles:20270331T180000
DTEND;TZID=America/Los_Angeles:20270331T190000
DTSTAMP:20260422T012950
CREATED:20260420T163741Z
LAST-MODIFIED:20260420T163741Z
UID:10002025-1806516000-1806519600@stpauldesert.church
SUMMARY:Simple Spoken Eucharist
DESCRIPTION:
URL:https://stpauldesert.church/event/simple-spoken-eucharist-4/2027-03-31/
LOCATION:The Church of St. Paul in the Desert\, 125 West El Alameda\, Palm Springs\, CA\, 92262\, United States
END:VEVENT
BEGIN:VEVENT
DTSTART;TZID=America/Los_Angeles:20270407T180000
DTEND;TZID=America/Los_Angeles:20270407T190000
DTSTAMP:20260422T012950
CREATED:20260420T163741Z
LAST-MODIFIED:20260420T163741Z
UID:10002026-1807120800-1807124400@stpauldesert.church
SUMMARY:Simple Spoken Eucharist
DESCRIPTION:
URL:https://stpauldesert.church/event/simple-spoken-eucharist-4/2027-04-07/
LOCATION:The Church of St. Paul in the Desert\, 125 West El Alameda\, Palm Springs\, CA\, 92262\, United States
END:VEVENT
BEGIN:VEVENT
DTSTART;TZID=America/Los_Angeles:20270414T180000
DTEND;TZID=America/Los_Angeles:20270414T190000
DTSTAMP:20260422T012950
CREATED:20260420T163741Z
LAST-MODIFIED:20260420T163741Z
UID:10002027-1807725600-1807729200@stpauldesert.church
SUMMARY:Simple Spoken Eucharist
DESCRIPTION:
URL:https://stpauldesert.church/event/simple-spoken-eucharist-4/2027-04-14/
LOCATION:The Church of St. Paul in the Desert\, 125 West El Alameda\, Palm Springs\, CA\, 92262\, United States
END:VEVENT
BEGIN:VEVENT
DTSTART;TZID=America/Los_Angeles:20270421T180000
DTEND;TZID=America/Los_Angeles:20270421T190000
DTSTAMP:20260422T012950
CREATED:20260420T163741Z
LAST-MODIFIED:20260420T163741Z
UID:10002028-1808330400-1808334000@stpauldesert.church
SUMMARY:Simple Spoken Eucharist
DESCRIPTION:
URL:https://stpauldesert.church/event/simple-spoken-eucharist-4/2027-04-21/
LOCATION:The Church of St. Paul in the Desert\, 125 West El Alameda\, Palm Springs\, CA\, 92262\, United States
END:VEVENT
BEGIN:VEVENT
DTSTART;TZID=America/Los_Angeles:20270428T180000
DTEND;TZID=America/Los_Angeles:20270428T190000
DTSTAMP:20260422T012950
CREATED:20260420T163741Z
LAST-MODIFIED:20260420T163741Z
UID:10002029-1808935200-1808938800@stpauldesert.church
SUMMARY:Simple Spoken Eucharist
DESCRIPTION:
URL:https://stpauldesert.church/event/simple-spoken-eucharist-4/2027-04-28/
LOCATION:The Church of St. Paul in the Desert\, 125 West El Alameda\, Palm Springs\, CA\, 92262\, United States
END:VEVENT
BEGIN:VEVENT
DTSTART;TZID=America/Los_Angeles:20270505T180000
DTEND;TZID=America/Los_Angeles:20270505T190000
DTSTAMP:20260422T012950
CREATED:20260420T163741Z
LAST-MODIFIED:20260420T163741Z
UID:10002030-1809540000-1809543600@stpauldesert.church
SUMMARY:Simple Spoken Eucharist
DESCRIPTION:
URL:https://stpauldesert.church/event/simple-spoken-eucharist-4/2027-05-05/
LOCATION:The Church of St. Paul in the Desert\, 125 West El Alameda\, Palm Springs\, CA\, 92262\, United States
END:VEVENT
BEGIN:VEVENT
DTSTART;TZID=America/Los_Angeles:20270512T180000
DTEND;TZID=America/Los_Angeles:20270512T190000
DTSTAMP:20260422T012950
CREATED:20260420T163741Z
LAST-MODIFIED:20260420T163741Z
UID:10002031-1810144800-1810148400@stpauldesert.church
SUMMARY:Simple Spoken Eucharist
DESCRIPTION:
URL:https://stpauldesert.church/event/simple-spoken-eucharist-4/2027-05-12/
LOCATION:The Church of St. Paul in the Desert\, 125 West El Alameda\, Palm Springs\, CA\, 92262\, United States
END:VEVENT
BEGIN:VEVENT
DTSTART;TZID=America/Los_Angeles:20270519T180000
DTEND;TZID=America/Los_Angeles:20270519T190000
DTSTAMP:20260422T012950
CREATED:20260420T163741Z
LAST-MODIFIED:20260420T163741Z
UID:10002032-1810749600-1810753200@stpauldesert.church
SUMMARY:Simple Spoken Eucharist
DESCRIPTION:
URL:https://stpauldesert.church/event/simple-spoken-eucharist-4/2027-05-19/
LOCATION:The Church of St. Paul in the Desert\, 125 West El Alameda\, Palm Springs\, CA\, 92262\, United States
END:VEVENT
BEGIN:VEVENT
DTSTART;TZID=America/Los_Angeles:20270526T180000
DTEND;TZID=America/Los_Angeles:20270526T190000
DTSTAMP:20260422T012950
CREATED:20260420T163741Z
LAST-MODIFIED:20260420T163741Z
UID:10002033-1811354400-1811358000@stpauldesert.church
SUMMARY:Simple Spoken Eucharist
DESCRIPTION:
URL:https://stpauldesert.church/event/simple-spoken-eucharist-4/2027-05-26/
LOCATION:The Church of St. Paul in the Desert\, 125 West El Alameda\, Palm Springs\, CA\, 92262\, United States
END:VEVENT
BEGIN:VEVENT
DTSTART;TZID=America/Los_Angeles:20270602T180000
DTEND;TZID=America/Los_Angeles:20270602T190000
DTSTAMP:20260422T012950
CREATED:20260420T163741Z
LAST-MODIFIED:20260420T163741Z
UID:10002034-1811959200-1811962800@stpauldesert.church
SUMMARY:Simple Spoken Eucharist
DESCRIPTION:
URL:https://stpauldesert.church/event/simple-spoken-eucharist-4/2027-06-02/
LOCATION:The Church of St. Paul in the Desert\, 125 West El Alameda\, Palm Springs\, CA\, 92262\, United States
END:VEVENT
BEGIN:VEVENT
DTSTART;TZID=America/Los_Angeles:20270609T180000
DTEND;TZID=America/Los_Angeles:20270609T190000
DTSTAMP:20260422T012950
CREATED:20260420T163741Z
LAST-MODIFIED:20260420T163741Z
UID:10002035-1812564000-1812567600@stpauldesert.church
SUMMARY:Simple Spoken Eucharist
DESCRIPTION:
URL:https://stpauldesert.church/event/simple-spoken-eucharist-4/2027-06-09/
LOCATION:The Church of St. Paul in the Desert\, 125 West El Alameda\, Palm Springs\, CA\, 92262\, United States
END:VEVENT
BEGIN:VEVENT
DTSTART;TZID=America/Los_Angeles:20270616T180000
DTEND;TZID=America/Los_Angeles:20270616T190000
DTSTAMP:20260422T012950
CREATED:20260420T163741Z
LAST-MODIFIED:20260420T163741Z
UID:10002036-1813168800-1813172400@stpauldesert.church
SUMMARY:Simple Spoken Eucharist
DESCRIPTION:
URL:https://stpauldesert.church/event/simple-spoken-eucharist-4/2027-06-16/
LOCATION:The Church of St. Paul in the Desert\, 125 West El Alameda\, Palm Springs\, CA\, 92262\, United States
END:VEVENT
BEGIN:VEVENT
DTSTART;TZID=America/Los_Angeles:20270623T180000
DTEND;TZID=America/Los_Angeles:20270623T190000
DTSTAMP:20260422T012950
CREATED:20260420T163741Z
LAST-MODIFIED:20260420T163741Z
UID:10002037-1813773600-1813777200@stpauldesert.church
SUMMARY:Simple Spoken Eucharist
DESCRIPTION:
URL:https://stpauldesert.church/event/simple-spoken-eucharist-4/2027-06-23/
LOCATION:The Church of St. Paul in the Desert\, 125 West El Alameda\, Palm Springs\, CA\, 92262\, United States
END:VEVENT
END:VCALENDAR