BEGIN:VCALENDAR
VERSION:2.0
PRODID:-//The Church of St. Paul in the Desert - ECPv6.15.17.1//NONSGML v1.0//EN
CALSCALE:GREGORIAN
METHOD:PUBLISH
X-WR-CALNAME:The Church of St. Paul in the Desert
X-ORIGINAL-URL:https://stpauldesert.church
X-WR-CALDESC:Events for The Church of St. Paul in the Desert
REFRESH-INTERVAL;VALUE=DURATION:PT1H
X-Robots-Tag:noindex
X-PUBLISHED-TTL:PT1H
BEGIN:VTIMEZONE
TZID:America/Los_Angeles
BEGIN:DAYLIGHT
TZOFFSETFROM:-0800
TZOFFSETTO:-0700
TZNAME:PDT
DTSTART:20250309T100000
END:DAYLIGHT
BEGIN:STANDARD
TZOFFSETFROM:-0700
TZOFFSETTO:-0800
TZNAME:PST
DTSTART:20251102T090000
END:STANDARD
BEGIN:DAYLIGHT
TZOFFSETFROM:-0800
TZOFFSETTO:-0700
TZNAME:PDT
DTSTART:20260308T100000
END:DAYLIGHT
BEGIN:STANDARD
TZOFFSETFROM:-0700
TZOFFSETTO:-0800
TZNAME:PST
DTSTART:20261101T090000
END:STANDARD
BEGIN:DAYLIGHT
TZOFFSETFROM:-0800
TZOFFSETTO:-0700
TZNAME:PDT
DTSTART:20270314T100000
END:DAYLIGHT
BEGIN:STANDARD
TZOFFSETFROM:-0700
TZOFFSETTO:-0800
TZNAME:PST
DTSTART:20271107T090000
END:STANDARD
END:VTIMEZONE
BEGIN:VEVENT
DTSTART;TZID=America/Los_Angeles:20260701T180000
DTEND;TZID=America/Los_Angeles:20260701T190000
DTSTAMP:20260422T025903
CREATED:20260420T163741Z
LAST-MODIFIED:20260420T163741Z
UID:10001986-1782928800-1782932400@stpauldesert.church
SUMMARY:Simple Spoken Eucharist
DESCRIPTION:
URL:https://stpauldesert.church/event/simple-spoken-eucharist-4/2026-07-01/
LOCATION:The Church of St. Paul in the Desert\, 125 West El Alameda\, Palm Springs\, CA\, 92262\, United States
END:VEVENT
BEGIN:VEVENT
DTSTART;TZID=America/Los_Angeles:20260628T103000
DTEND;TZID=America/Los_Angeles:20260628T120000
DTSTAMP:20260422T025903
CREATED:20260420T171116Z
LAST-MODIFIED:20260420T171116Z
UID:10002197-1782642600-1782648000@stpauldesert.church
SUMMARY:Choral Eucharist
DESCRIPTION:A full\, festive Eucharistic service using Rite II liturgy\, with choral and congregational music led by choir and organ\, offering a rich Anglican worship experience. This is our only regularly livestreamed service.
URL:https://stpauldesert.church/event/choral-eucharist/2026-06-28/
LOCATION:The Church of St. Paul in the Desert\, 125 West El Alameda\, Palm Springs\, CA\, 92262\, United States
END:VEVENT
BEGIN:VEVENT
DTSTART;TZID=America/Los_Angeles:20260628T080000
DTEND;TZID=America/Los_Angeles:20260628T090000
DTSTAMP:20260422T025903
CREATED:20260420T170848Z
LAST-MODIFIED:20260420T170848Z
UID:10002175-1782633600-1782637200@stpauldesert.church
SUMMARY:Spoken Eucharist
DESCRIPTION:A quiet\, traditional Eucharistic service using Rite II language from the Book of Common Prayer\, spoken rather than sung\, with minimal ceremony and a reflective atmosphere.
URL:https://stpauldesert.church/event/spoken-eucharist-3/2026-06-28/
LOCATION:The Church of St. Paul in the Desert\, 125 West El Alameda\, Palm Springs\, CA\, 92262\, United States
END:VEVENT
BEGIN:VEVENT
DTSTART;VALUE=DATE:20260626
DTEND;VALUE=DATE:20260627
DTSTAMP:20260422T025903
CREATED:20260115T044156Z
LAST-MODIFIED:20260117T061023Z
UID:10000351-1782432000-1782518399@stpauldesert.church
SUMMARY:Office Closed
DESCRIPTION:
URL:https://stpauldesert.church/event/office-closed/2026-06-26/
LOCATION:CA
END:VEVENT
BEGIN:VEVENT
DTSTART;TZID=America/Los_Angeles:20260624T180000
DTEND;TZID=America/Los_Angeles:20260624T190000
DTSTAMP:20260422T025903
CREATED:20260420T163741Z
LAST-MODIFIED:20260420T163741Z
UID:10001985-1782324000-1782327600@stpauldesert.church
SUMMARY:Simple Spoken Eucharist
DESCRIPTION:
URL:https://stpauldesert.church/event/simple-spoken-eucharist-4/2026-06-24/
LOCATION:The Church of St. Paul in the Desert\, 125 West El Alameda\, Palm Springs\, CA\, 92262\, United States
END:VEVENT
BEGIN:VEVENT
DTSTART;TZID=America/Los_Angeles:20260621T103000
DTEND;TZID=America/Los_Angeles:20260621T120000
DTSTAMP:20260422T025903
CREATED:20260420T171116Z
LAST-MODIFIED:20260420T171116Z
UID:10002196-1782037800-1782043200@stpauldesert.church
SUMMARY:Choral Eucharist
DESCRIPTION:A full\, festive Eucharistic service using Rite II liturgy\, with choral and congregational music led by choir and organ\, offering a rich Anglican worship experience. This is our only regularly livestreamed service.
URL:https://stpauldesert.church/event/choral-eucharist/2026-06-21/
LOCATION:The Church of St. Paul in the Desert\, 125 West El Alameda\, Palm Springs\, CA\, 92262\, United States
END:VEVENT
BEGIN:VEVENT
DTSTART;TZID=America/Los_Angeles:20260621T080000
DTEND;TZID=America/Los_Angeles:20260621T090000
DTSTAMP:20260422T025903
CREATED:20260420T170848Z
LAST-MODIFIED:20260420T170848Z
UID:10002174-1782028800-1782032400@stpauldesert.church
SUMMARY:Spoken Eucharist
DESCRIPTION:A quiet\, traditional Eucharistic service using Rite II language from the Book of Common Prayer\, spoken rather than sung\, with minimal ceremony and a reflective atmosphere.
URL:https://stpauldesert.church/event/spoken-eucharist-3/2026-06-21/
LOCATION:The Church of St. Paul in the Desert\, 125 West El Alameda\, Palm Springs\, CA\, 92262\, United States
END:VEVENT
BEGIN:VEVENT
DTSTART;VALUE=DATE:20260619
DTEND;VALUE=DATE:20260620
DTSTAMP:20260422T025903
CREATED:20260115T044156Z
LAST-MODIFIED:20260117T061023Z
UID:10000350-1781827200-1781913599@stpauldesert.church
SUMMARY:Office Closed
DESCRIPTION:
URL:https://stpauldesert.church/event/office-closed/2026-06-19/
LOCATION:CA
END:VEVENT
BEGIN:VEVENT
DTSTART;TZID=America/Los_Angeles:20260617T180000
DTEND;TZID=America/Los_Angeles:20260617T190000
DTSTAMP:20260422T025903
CREATED:20260420T163741Z
LAST-MODIFIED:20260420T163741Z
UID:10001984-1781719200-1781722800@stpauldesert.church
SUMMARY:Simple Spoken Eucharist
DESCRIPTION:
URL:https://stpauldesert.church/event/simple-spoken-eucharist-4/2026-06-17/
LOCATION:The Church of St. Paul in the Desert\, 125 West El Alameda\, Palm Springs\, CA\, 92262\, United States
END:VEVENT
BEGIN:VEVENT
DTSTART;TZID=America/Los_Angeles:20260614T103000
DTEND;TZID=America/Los_Angeles:20260614T120000
DTSTAMP:20260422T025903
CREATED:20260420T171116Z
LAST-MODIFIED:20260420T171116Z
UID:10002195-1781433000-1781438400@stpauldesert.church
SUMMARY:Choral Eucharist
DESCRIPTION:A full\, festive Eucharistic service using Rite II liturgy\, with choral and congregational music led by choir and organ\, offering a rich Anglican worship experience. This is our only regularly livestreamed service.
URL:https://stpauldesert.church/event/choral-eucharist/2026-06-14/
LOCATION:The Church of St. Paul in the Desert\, 125 West El Alameda\, Palm Springs\, CA\, 92262\, United States
END:VEVENT
BEGIN:VEVENT
DTSTART;TZID=America/Los_Angeles:20260614T080000
DTEND;TZID=America/Los_Angeles:20260614T090000
DTSTAMP:20260422T025903
CREATED:20260420T170848Z
LAST-MODIFIED:20260420T170848Z
UID:10002173-1781424000-1781427600@stpauldesert.church
SUMMARY:Spoken Eucharist
DESCRIPTION:A quiet\, traditional Eucharistic service using Rite II language from the Book of Common Prayer\, spoken rather than sung\, with minimal ceremony and a reflective atmosphere.
URL:https://stpauldesert.church/event/spoken-eucharist-3/2026-06-14/
LOCATION:The Church of St. Paul in the Desert\, 125 West El Alameda\, Palm Springs\, CA\, 92262\, United States
END:VEVENT
BEGIN:VEVENT
DTSTART;VALUE=DATE:20260612
DTEND;VALUE=DATE:20260613
DTSTAMP:20260422T025903
CREATED:20260115T044156Z
LAST-MODIFIED:20260117T061023Z
UID:10000349-1781222400-1781308799@stpauldesert.church
SUMMARY:Office Closed
DESCRIPTION:
URL:https://stpauldesert.church/event/office-closed/2026-06-12/
LOCATION:CA
END:VEVENT
BEGIN:VEVENT
DTSTART;TZID=America/Los_Angeles:20260610T180000
DTEND;TZID=America/Los_Angeles:20260610T190000
DTSTAMP:20260422T025903
CREATED:20260420T163741Z
LAST-MODIFIED:20260420T163741Z
UID:10001983-1781114400-1781118000@stpauldesert.church
SUMMARY:Simple Spoken Eucharist
DESCRIPTION:
URL:https://stpauldesert.church/event/simple-spoken-eucharist-4/2026-06-10/
LOCATION:The Church of St. Paul in the Desert\, 125 West El Alameda\, Palm Springs\, CA\, 92262\, United States
END:VEVENT
BEGIN:VEVENT
DTSTART;TZID=America/Los_Angeles:20260607T103000
DTEND;TZID=America/Los_Angeles:20260607T120000
DTSTAMP:20260422T025903
CREATED:20260420T171116Z
LAST-MODIFIED:20260420T171116Z
UID:10002194-1780828200-1780833600@stpauldesert.church
SUMMARY:Choral Eucharist
DESCRIPTION:A full\, festive Eucharistic service using Rite II liturgy\, with choral and congregational music led by choir and organ\, offering a rich Anglican worship experience. This is our only regularly livestreamed service.
URL:https://stpauldesert.church/event/choral-eucharist/2026-06-07/
LOCATION:The Church of St. Paul in the Desert\, 125 West El Alameda\, Palm Springs\, CA\, 92262\, United States
END:VEVENT
BEGIN:VEVENT
DTSTART;TZID=America/Los_Angeles:20260607T080000
DTEND;TZID=America/Los_Angeles:20260607T090000
DTSTAMP:20260422T025903
CREATED:20260420T170848Z
LAST-MODIFIED:20260420T170848Z
UID:10002172-1780819200-1780822800@stpauldesert.church
SUMMARY:Spoken Eucharist
DESCRIPTION:A quiet\, traditional Eucharistic service using Rite II language from the Book of Common Prayer\, spoken rather than sung\, with minimal ceremony and a reflective atmosphere.
URL:https://stpauldesert.church/event/spoken-eucharist-3/2026-06-07/
LOCATION:The Church of St. Paul in the Desert\, 125 West El Alameda\, Palm Springs\, CA\, 92262\, United States
END:VEVENT
BEGIN:VEVENT
DTSTART;TZID=America/Los_Angeles:20260606T110000
DTEND;TZID=America/Los_Angeles:20260606T123000
DTSTAMP:20260422T025903
CREATED:20260420T171813Z
LAST-MODIFIED:20260420T171813Z
UID:10002217-1780743600-1780749000@stpauldesert.church
SUMMARY:Roger Allen's Funeral
DESCRIPTION:
URL:https://stpauldesert.church/event/roger-allens-funeral/
LOCATION:The Church of St. Paul in the Desert\, 125 West El Alameda\, Palm Springs\, CA\, 92262\, United States
END:VEVENT
BEGIN:VEVENT
DTSTART;VALUE=DATE:20260605
DTEND;VALUE=DATE:20260606
DTSTAMP:20260422T025903
CREATED:20260115T044156Z
LAST-MODIFIED:20260117T061023Z
UID:10000348-1780617600-1780703999@stpauldesert.church
SUMMARY:Office Closed
DESCRIPTION:
URL:https://stpauldesert.church/event/office-closed/2026-06-05/
LOCATION:CA
END:VEVENT
BEGIN:VEVENT
DTSTART;TZID=America/Los_Angeles:20260603T180000
DTEND;TZID=America/Los_Angeles:20260603T190000
DTSTAMP:20260422T025903
CREATED:20260420T163741Z
LAST-MODIFIED:20260420T163741Z
UID:10001982-1780509600-1780513200@stpauldesert.church
SUMMARY:Simple Spoken Eucharist
DESCRIPTION:
URL:https://stpauldesert.church/event/simple-spoken-eucharist-4/2026-06-03/
LOCATION:The Church of St. Paul in the Desert\, 125 West El Alameda\, Palm Springs\, CA\, 92262\, United States
END:VEVENT
BEGIN:VEVENT
DTSTART;TZID=America/Los_Angeles:20260531T130000
DTEND;TZID=America/Los_Angeles:20260531T140000
DTSTAMP:20260422T025903
CREATED:20260420T205917Z
LAST-MODIFIED:20260420T205917Z
UID:10002230-1780232400-1780236000@stpauldesert.church
SUMMARY:Vestry Meeting
DESCRIPTION:
URL:https://stpauldesert.church/event/vestry-meeting/
LOCATION:The Church of St. Paul in the Desert\, 125 West El Alameda\, Palm Springs\, CA\, 92262\, United States
END:VEVENT
BEGIN:VEVENT
DTSTART;TZID=America/Los_Angeles:20260531T103000
DTEND;TZID=America/Los_Angeles:20260531T120000
DTSTAMP:20260422T025903
CREATED:20260420T171116Z
LAST-MODIFIED:20260420T171116Z
UID:10002193-1780223400-1780228800@stpauldesert.church
SUMMARY:Choral Eucharist
DESCRIPTION:A full\, festive Eucharistic service using Rite II liturgy\, with choral and congregational music led by choir and organ\, offering a rich Anglican worship experience. This is our only regularly livestreamed service.
URL:https://stpauldesert.church/event/choral-eucharist/2026-05-31/
LOCATION:The Church of St. Paul in the Desert\, 125 West El Alameda\, Palm Springs\, CA\, 92262\, United States
END:VEVENT
BEGIN:VEVENT
DTSTART;TZID=America/Los_Angeles:20260531T080000
DTEND;TZID=America/Los_Angeles:20260531T090000
DTSTAMP:20260422T025903
CREATED:20260420T170848Z
LAST-MODIFIED:20260420T170848Z
UID:10002171-1780214400-1780218000@stpauldesert.church
SUMMARY:Spoken Eucharist
DESCRIPTION:A quiet\, traditional Eucharistic service using Rite II language from the Book of Common Prayer\, spoken rather than sung\, with minimal ceremony and a reflective atmosphere.
URL:https://stpauldesert.church/event/spoken-eucharist-3/2026-05-31/
LOCATION:The Church of St. Paul in the Desert\, 125 West El Alameda\, Palm Springs\, CA\, 92262\, United States
END:VEVENT
BEGIN:VEVENT
DTSTART;VALUE=DATE:20260531
DTEND;VALUE=DATE:20260601
DTSTAMP:20260422T025903
CREATED:20260420T172703Z
LAST-MODIFIED:20260420T172703Z
UID:10002228-1780185600-1780271999@stpauldesert.church
SUMMARY:Trinity Sunday
DESCRIPTION:
URL:https://stpauldesert.church/event/trinity-sunday/
LOCATION:CA
END:VEVENT
BEGIN:VEVENT
DTSTART;TZID=America/Los_Angeles:20260530T110000
DTEND;TZID=America/Los_Angeles:20260530T123000
DTSTAMP:20260422T025903
CREATED:20260420T171650Z
LAST-MODIFIED:20260420T171650Z
UID:10002216-1780138800-1780144200@stpauldesert.church
SUMMARY:Private Funeral
DESCRIPTION:
URL:https://stpauldesert.church/event/private-funeral/
LOCATION:The Church of St. Paul in the Desert\, 125 West El Alameda\, Palm Springs\, CA\, 92262\, United States
END:VEVENT
BEGIN:VEVENT
DTSTART;VALUE=DATE:20260529
DTEND;VALUE=DATE:20260530
DTSTAMP:20260422T025903
CREATED:20260115T044156Z
LAST-MODIFIED:20260117T061023Z
UID:10000347-1780012800-1780099199@stpauldesert.church
SUMMARY:Office Closed
DESCRIPTION:
URL:https://stpauldesert.church/event/office-closed/2026-05-29/
LOCATION:CA
END:VEVENT
BEGIN:VEVENT
DTSTART;TZID=America/Los_Angeles:20260527T183000
DTEND;TZID=America/Los_Angeles:20260527T200000
DTSTAMP:20260422T025903
CREATED:20260420T172638Z
LAST-MODIFIED:20260420T172638Z
UID:10002227-1779906600-1779912000@stpauldesert.church
SUMMARY:Executive Committee Meeting
DESCRIPTION:
URL:https://stpauldesert.church/event/executive-committee-meeting/
LOCATION:The Church of St. Paul in the Desert\, 125 West El Alameda\, Palm Springs\, CA\, 92262\, United States
END:VEVENT
BEGIN:VEVENT
DTSTART;TZID=America/Los_Angeles:20260527T180000
DTEND;TZID=America/Los_Angeles:20260527T190000
DTSTAMP:20260422T025903
CREATED:20260420T163741Z
LAST-MODIFIED:20260420T163741Z
UID:10001981-1779904800-1779908400@stpauldesert.church
SUMMARY:Simple Spoken Eucharist
DESCRIPTION:
URL:https://stpauldesert.church/event/simple-spoken-eucharist-4/2026-05-27/
LOCATION:The Church of St. Paul in the Desert\, 125 West El Alameda\, Palm Springs\, CA\, 92262\, United States
END:VEVENT
BEGIN:VEVENT
DTSTART;TZID=America/Los_Angeles:20260524T110000
DTEND;TZID=America/Los_Angeles:20260524T121500
DTSTAMP:20260422T025903
CREATED:20260420T170537Z
LAST-MODIFIED:20260420T170537Z
UID:10000934-1779620400-1779624900@stpauldesert.church
SUMMARY:Rite II Choral Eucharist
DESCRIPTION:Rite II Choral Eucharist \nA full\, festive Eucharistic service using Rite II liturgy\, with choral and congregational music led by choir and organ\, offering a rich Anglican worship experience. This is our only regularly livestreamed service.
URL:https://stpauldesert.church/event/rite-ii-choral-eucharist-2/2026-05-24/
LOCATION:The Church of St. Paul in the Desert\, 125 West El Alameda\, Palm Springs\, CA\, 92262\, United States
ORGANIZER;CN="The Church of St. Paul in the Desert":MAILTO:communications@stpauldesert.church
END:VEVENT
BEGIN:VEVENT
DTSTART;TZID=America/Los_Angeles:20260524T090000
DTEND;TZID=America/Los_Angeles:20260524T094500
DTSTAMP:20260422T025903
CREATED:20260420T170318Z
LAST-MODIFIED:20260420T170319Z
UID:10000675-1779613200-1779615900@stpauldesert.church
SUMMARY:Contemplative Eucharist
DESCRIPTION:Contemplative Eucharist \nA brief yet meaningful Sunday Eucharist featuring congregational singing with piano\, strings\, and occasional flute or harp. Prayers are drawn from an ancient Christian tradition that emphasizes God’s presence in creation\, beauty\, and daily life. Candlelight\, sacred music\, and gentle ritual create a tranquil\, welcoming atmosphere. This service is intentionally inclusive and hospitable\, inviting all to share in worship that understands faith as woven into everyday living—not limited to Sunday morning. 
URL:https://stpauldesert.church/event/contemplative-eucharist-2-2/2026-05-24/
LOCATION:The Church of St. Paul in the Desert\, 125 West El Alameda\, Palm Springs\, CA\, 92262\, United States
ORGANIZER;CN="The Church of St. Paul in the Desert":MAILTO:communications@stpauldesert.church
END:VEVENT
BEGIN:VEVENT
DTSTART;TZID=America/Los_Angeles:20260524T073000
DTEND;TZID=America/Los_Angeles:20260524T083000
DTSTAMP:20260422T025903
CREATED:20260420T165528Z
LAST-MODIFIED:20260420T165528Z
UID:10002169-1779607800-1779611400@stpauldesert.church
SUMMARY:Spoken Eucharist
DESCRIPTION:A quiet\, traditional Eucharistic service using Rite II language from the Book of Common Prayer\, spoken rather than sung\, with minimal ceremony and a reflective atmosphere.
URL:https://stpauldesert.church/event/spoken-eucharist-2/2026-05-24/
LOCATION:The Church of St. Paul in the Desert\, 125 West El Alameda\, Palm Springs\, CA\, 92262\, United States
END:VEVENT
BEGIN:VEVENT
DTSTART;VALUE=DATE:20260524
DTEND;VALUE=DATE:20260525
DTSTAMP:20260422T025903
CREATED:20260420T170049Z
LAST-MODIFIED:20260420T170049Z
UID:10002170-1779580800-1779667199@stpauldesert.church
SUMMARY:"Pentecost"
DESCRIPTION:
URL:https://stpauldesert.church/event/pentecost/
LOCATION:CA
END:VEVENT
END:VCALENDAR