BEGIN:VCALENDAR
VERSION:2.0
PRODID:-//The Church of St. Paul in the Desert - ECPv6.15.17.1//NONSGML v1.0//EN
CALSCALE:GREGORIAN
METHOD:PUBLISH
X-WR-CALNAME:The Church of St. Paul in the Desert
X-ORIGINAL-URL:https://stpauldesert.church
X-WR-CALDESC:Events for The Church of St. Paul in the Desert
REFRESH-INTERVAL;VALUE=DURATION:PT1H
X-Robots-Tag:noindex
X-PUBLISHED-TTL:PT1H
BEGIN:VTIMEZONE
TZID:America/Los_Angeles
BEGIN:DAYLIGHT
TZOFFSETFROM:-0800
TZOFFSETTO:-0700
TZNAME:PDT
DTSTART:20250309T100000
END:DAYLIGHT
BEGIN:STANDARD
TZOFFSETFROM:-0700
TZOFFSETTO:-0800
TZNAME:PST
DTSTART:20251102T090000
END:STANDARD
BEGIN:DAYLIGHT
TZOFFSETFROM:-0800
TZOFFSETTO:-0700
TZNAME:PDT
DTSTART:20260308T100000
END:DAYLIGHT
BEGIN:STANDARD
TZOFFSETFROM:-0700
TZOFFSETTO:-0800
TZNAME:PST
DTSTART:20261101T090000
END:STANDARD
BEGIN:DAYLIGHT
TZOFFSETFROM:-0800
TZOFFSETTO:-0700
TZNAME:PDT
DTSTART:20270314T100000
END:DAYLIGHT
BEGIN:STANDARD
TZOFFSETFROM:-0700
TZOFFSETTO:-0800
TZNAME:PST
DTSTART:20271107T090000
END:STANDARD
END:VTIMEZONE
BEGIN:VEVENT
DTSTART;TZID=America/Los_Angeles:20260705T080000
DTEND;TZID=America/Los_Angeles:20260705T090000
DTSTAMP:20260422T012928
CREATED:20260420T170848Z
LAST-MODIFIED:20260420T170848Z
UID:10002176-1783238400-1783242000@stpauldesert.church
SUMMARY:Spoken Eucharist
DESCRIPTION:A quiet\, traditional Eucharistic service using Rite II language from the Book of Common Prayer\, spoken rather than sung\, with minimal ceremony and a reflective atmosphere.
URL:https://stpauldesert.church/event/spoken-eucharist-3/2026-07-05/
LOCATION:The Church of St. Paul in the Desert\, 125 West El Alameda\, Palm Springs\, CA\, 92262\, United States
END:VEVENT
BEGIN:VEVENT
DTSTART;TZID=America/Los_Angeles:20260705T103000
DTEND;TZID=America/Los_Angeles:20260705T120000
DTSTAMP:20260422T012928
CREATED:20260420T171116Z
LAST-MODIFIED:20260420T171116Z
UID:10002198-1783247400-1783252800@stpauldesert.church
SUMMARY:Choral Eucharist
DESCRIPTION:A full\, festive Eucharistic service using Rite II liturgy\, with choral and congregational music led by choir and organ\, offering a rich Anglican worship experience. This is our only regularly livestreamed service.
URL:https://stpauldesert.church/event/choral-eucharist/2026-07-05/
LOCATION:The Church of St. Paul in the Desert\, 125 West El Alameda\, Palm Springs\, CA\, 92262\, United States
END:VEVENT
BEGIN:VEVENT
DTSTART;TZID=America/Los_Angeles:20260708T180000
DTEND;TZID=America/Los_Angeles:20260708T190000
DTSTAMP:20260422T012928
CREATED:20260420T163741Z
LAST-MODIFIED:20260420T163741Z
UID:10001987-1783533600-1783537200@stpauldesert.church
SUMMARY:Simple Spoken Eucharist
DESCRIPTION:
URL:https://stpauldesert.church/event/simple-spoken-eucharist-4/2026-07-08/
LOCATION:The Church of St. Paul in the Desert\, 125 West El Alameda\, Palm Springs\, CA\, 92262\, United States
END:VEVENT
BEGIN:VEVENT
DTSTART;VALUE=DATE:20260710
DTEND;VALUE=DATE:20260711
DTSTAMP:20260422T012928
CREATED:20260115T044156Z
LAST-MODIFIED:20260117T061023Z
UID:10000353-1783641600-1783727999@stpauldesert.church
SUMMARY:Office Closed
DESCRIPTION:
URL:https://stpauldesert.church/event/office-closed/2026-07-10/
LOCATION:CA
END:VEVENT
BEGIN:VEVENT
DTSTART;TZID=America/Los_Angeles:20260712T080000
DTEND;TZID=America/Los_Angeles:20260712T090000
DTSTAMP:20260422T012928
CREATED:20260420T170848Z
LAST-MODIFIED:20260420T170848Z
UID:10002177-1783843200-1783846800@stpauldesert.church
SUMMARY:Spoken Eucharist
DESCRIPTION:A quiet\, traditional Eucharistic service using Rite II language from the Book of Common Prayer\, spoken rather than sung\, with minimal ceremony and a reflective atmosphere.
URL:https://stpauldesert.church/event/spoken-eucharist-3/2026-07-12/
LOCATION:The Church of St. Paul in the Desert\, 125 West El Alameda\, Palm Springs\, CA\, 92262\, United States
END:VEVENT
BEGIN:VEVENT
DTSTART;TZID=America/Los_Angeles:20260712T103000
DTEND;TZID=America/Los_Angeles:20260712T120000
DTSTAMP:20260422T012928
CREATED:20260420T171116Z
LAST-MODIFIED:20260420T171116Z
UID:10002199-1783852200-1783857600@stpauldesert.church
SUMMARY:Choral Eucharist
DESCRIPTION:A full\, festive Eucharistic service using Rite II liturgy\, with choral and congregational music led by choir and organ\, offering a rich Anglican worship experience. This is our only regularly livestreamed service.
URL:https://stpauldesert.church/event/choral-eucharist/2026-07-12/
LOCATION:The Church of St. Paul in the Desert\, 125 West El Alameda\, Palm Springs\, CA\, 92262\, United States
END:VEVENT
BEGIN:VEVENT
DTSTART;TZID=America/Los_Angeles:20260715T180000
DTEND;TZID=America/Los_Angeles:20260715T190000
DTSTAMP:20260422T012928
CREATED:20260420T163741Z
LAST-MODIFIED:20260420T163741Z
UID:10001988-1784138400-1784142000@stpauldesert.church
SUMMARY:Simple Spoken Eucharist
DESCRIPTION:
URL:https://stpauldesert.church/event/simple-spoken-eucharist-4/2026-07-15/
LOCATION:The Church of St. Paul in the Desert\, 125 West El Alameda\, Palm Springs\, CA\, 92262\, United States
END:VEVENT
BEGIN:VEVENT
DTSTART;VALUE=DATE:20260717
DTEND;VALUE=DATE:20260718
DTSTAMP:20260422T012928
CREATED:20260115T044156Z
LAST-MODIFIED:20260117T061023Z
UID:10000354-1784246400-1784332799@stpauldesert.church
SUMMARY:Office Closed
DESCRIPTION:
URL:https://stpauldesert.church/event/office-closed/2026-07-17/
LOCATION:CA
END:VEVENT
BEGIN:VEVENT
DTSTART;TZID=America/Los_Angeles:20260719T080000
DTEND;TZID=America/Los_Angeles:20260719T090000
DTSTAMP:20260422T012928
CREATED:20260420T170848Z
LAST-MODIFIED:20260420T170848Z
UID:10002178-1784448000-1784451600@stpauldesert.church
SUMMARY:Spoken Eucharist
DESCRIPTION:A quiet\, traditional Eucharistic service using Rite II language from the Book of Common Prayer\, spoken rather than sung\, with minimal ceremony and a reflective atmosphere.
URL:https://stpauldesert.church/event/spoken-eucharist-3/2026-07-19/
LOCATION:The Church of St. Paul in the Desert\, 125 West El Alameda\, Palm Springs\, CA\, 92262\, United States
END:VEVENT
BEGIN:VEVENT
DTSTART;TZID=America/Los_Angeles:20260719T103000
DTEND;TZID=America/Los_Angeles:20260719T120000
DTSTAMP:20260422T012928
CREATED:20260420T171116Z
LAST-MODIFIED:20260420T171116Z
UID:10002200-1784457000-1784462400@stpauldesert.church
SUMMARY:Choral Eucharist
DESCRIPTION:A full\, festive Eucharistic service using Rite II liturgy\, with choral and congregational music led by choir and organ\, offering a rich Anglican worship experience. This is our only regularly livestreamed service.
URL:https://stpauldesert.church/event/choral-eucharist/2026-07-19/
LOCATION:The Church of St. Paul in the Desert\, 125 West El Alameda\, Palm Springs\, CA\, 92262\, United States
END:VEVENT
BEGIN:VEVENT
DTSTART;TZID=America/Los_Angeles:20260722T180000
DTEND;TZID=America/Los_Angeles:20260722T190000
DTSTAMP:20260422T012928
CREATED:20260420T163741Z
LAST-MODIFIED:20260420T163741Z
UID:10001989-1784743200-1784746800@stpauldesert.church
SUMMARY:Simple Spoken Eucharist
DESCRIPTION:
URL:https://stpauldesert.church/event/simple-spoken-eucharist-4/2026-07-22/
LOCATION:The Church of St. Paul in the Desert\, 125 West El Alameda\, Palm Springs\, CA\, 92262\, United States
END:VEVENT
BEGIN:VEVENT
DTSTART;VALUE=DATE:20260724
DTEND;VALUE=DATE:20260725
DTSTAMP:20260422T012928
CREATED:20260115T044156Z
LAST-MODIFIED:20260117T061023Z
UID:10000355-1784851200-1784937599@stpauldesert.church
SUMMARY:Office Closed
DESCRIPTION:
URL:https://stpauldesert.church/event/office-closed/2026-07-24/
LOCATION:CA
END:VEVENT
BEGIN:VEVENT
DTSTART;TZID=America/Los_Angeles:20260726T080000
DTEND;TZID=America/Los_Angeles:20260726T090000
DTSTAMP:20260422T012928
CREATED:20260420T170848Z
LAST-MODIFIED:20260420T170848Z
UID:10002179-1785052800-1785056400@stpauldesert.church
SUMMARY:Spoken Eucharist
DESCRIPTION:A quiet\, traditional Eucharistic service using Rite II language from the Book of Common Prayer\, spoken rather than sung\, with minimal ceremony and a reflective atmosphere.
URL:https://stpauldesert.church/event/spoken-eucharist-3/2026-07-26/
LOCATION:The Church of St. Paul in the Desert\, 125 West El Alameda\, Palm Springs\, CA\, 92262\, United States
END:VEVENT
BEGIN:VEVENT
DTSTART;TZID=America/Los_Angeles:20260726T103000
DTEND;TZID=America/Los_Angeles:20260726T120000
DTSTAMP:20260422T012928
CREATED:20260420T171116Z
LAST-MODIFIED:20260420T171116Z
UID:10002201-1785061800-1785067200@stpauldesert.church
SUMMARY:Choral Eucharist
DESCRIPTION:A full\, festive Eucharistic service using Rite II liturgy\, with choral and congregational music led by choir and organ\, offering a rich Anglican worship experience. This is our only regularly livestreamed service.
URL:https://stpauldesert.church/event/choral-eucharist/2026-07-26/
LOCATION:The Church of St. Paul in the Desert\, 125 West El Alameda\, Palm Springs\, CA\, 92262\, United States
END:VEVENT
BEGIN:VEVENT
DTSTART;TZID=America/Los_Angeles:20260729T180000
DTEND;TZID=America/Los_Angeles:20260729T190000
DTSTAMP:20260422T012928
CREATED:20260420T163741Z
LAST-MODIFIED:20260420T163741Z
UID:10001990-1785348000-1785351600@stpauldesert.church
SUMMARY:Simple Spoken Eucharist
DESCRIPTION:
URL:https://stpauldesert.church/event/simple-spoken-eucharist-4/2026-07-29/
LOCATION:The Church of St. Paul in the Desert\, 125 West El Alameda\, Palm Springs\, CA\, 92262\, United States
END:VEVENT
BEGIN:VEVENT
DTSTART;VALUE=DATE:20260731
DTEND;VALUE=DATE:20260801
DTSTAMP:20260422T012928
CREATED:20260115T044156Z
LAST-MODIFIED:20260117T061023Z
UID:10000356-1785456000-1785542399@stpauldesert.church
SUMMARY:Office Closed
DESCRIPTION:
URL:https://stpauldesert.church/event/office-closed/2026-07-31/
LOCATION:CA
END:VEVENT
BEGIN:VEVENT
DTSTART;TZID=America/Los_Angeles:20260802T080000
DTEND;TZID=America/Los_Angeles:20260802T090000
DTSTAMP:20260422T012928
CREATED:20260420T170848Z
LAST-MODIFIED:20260420T170848Z
UID:10002180-1785657600-1785661200@stpauldesert.church
SUMMARY:Spoken Eucharist
DESCRIPTION:A quiet\, traditional Eucharistic service using Rite II language from the Book of Common Prayer\, spoken rather than sung\, with minimal ceremony and a reflective atmosphere.
URL:https://stpauldesert.church/event/spoken-eucharist-3/2026-08-02/
LOCATION:The Church of St. Paul in the Desert\, 125 West El Alameda\, Palm Springs\, CA\, 92262\, United States
END:VEVENT
BEGIN:VEVENT
DTSTART;TZID=America/Los_Angeles:20260802T103000
DTEND;TZID=America/Los_Angeles:20260802T120000
DTSTAMP:20260422T012928
CREATED:20260420T171116Z
LAST-MODIFIED:20260420T171116Z
UID:10002202-1785666600-1785672000@stpauldesert.church
SUMMARY:Choral Eucharist
DESCRIPTION:A full\, festive Eucharistic service using Rite II liturgy\, with choral and congregational music led by choir and organ\, offering a rich Anglican worship experience. This is our only regularly livestreamed service.
URL:https://stpauldesert.church/event/choral-eucharist/2026-08-02/
LOCATION:The Church of St. Paul in the Desert\, 125 West El Alameda\, Palm Springs\, CA\, 92262\, United States
END:VEVENT
BEGIN:VEVENT
DTSTART;TZID=America/Los_Angeles:20260805T180000
DTEND;TZID=America/Los_Angeles:20260805T190000
DTSTAMP:20260422T012928
CREATED:20260420T163741Z
LAST-MODIFIED:20260420T163741Z
UID:10001991-1785952800-1785956400@stpauldesert.church
SUMMARY:Simple Spoken Eucharist
DESCRIPTION:
URL:https://stpauldesert.church/event/simple-spoken-eucharist-4/2026-08-05/
LOCATION:The Church of St. Paul in the Desert\, 125 West El Alameda\, Palm Springs\, CA\, 92262\, United States
END:VEVENT
BEGIN:VEVENT
DTSTART;VALUE=DATE:20260807
DTEND;VALUE=DATE:20260808
DTSTAMP:20260422T012928
CREATED:20260115T044156Z
LAST-MODIFIED:20260117T061023Z
UID:10000357-1786060800-1786147199@stpauldesert.church
SUMMARY:Office Closed
DESCRIPTION:
URL:https://stpauldesert.church/event/office-closed/2026-08-07/
LOCATION:CA
END:VEVENT
BEGIN:VEVENT
DTSTART;TZID=America/Los_Angeles:20260809T080000
DTEND;TZID=America/Los_Angeles:20260809T090000
DTSTAMP:20260422T012928
CREATED:20260420T170848Z
LAST-MODIFIED:20260420T170848Z
UID:10002181-1786262400-1786266000@stpauldesert.church
SUMMARY:Spoken Eucharist
DESCRIPTION:A quiet\, traditional Eucharistic service using Rite II language from the Book of Common Prayer\, spoken rather than sung\, with minimal ceremony and a reflective atmosphere.
URL:https://stpauldesert.church/event/spoken-eucharist-3/2026-08-09/
LOCATION:The Church of St. Paul in the Desert\, 125 West El Alameda\, Palm Springs\, CA\, 92262\, United States
END:VEVENT
BEGIN:VEVENT
DTSTART;TZID=America/Los_Angeles:20260809T103000
DTEND;TZID=America/Los_Angeles:20260809T120000
DTSTAMP:20260422T012928
CREATED:20260420T171116Z
LAST-MODIFIED:20260420T171116Z
UID:10002203-1786271400-1786276800@stpauldesert.church
SUMMARY:Choral Eucharist
DESCRIPTION:A full\, festive Eucharistic service using Rite II liturgy\, with choral and congregational music led by choir and organ\, offering a rich Anglican worship experience. This is our only regularly livestreamed service.
URL:https://stpauldesert.church/event/choral-eucharist/2026-08-09/
LOCATION:The Church of St. Paul in the Desert\, 125 West El Alameda\, Palm Springs\, CA\, 92262\, United States
END:VEVENT
BEGIN:VEVENT
DTSTART;TZID=America/Los_Angeles:20260812T180000
DTEND;TZID=America/Los_Angeles:20260812T190000
DTSTAMP:20260422T012928
CREATED:20260420T163741Z
LAST-MODIFIED:20260420T163741Z
UID:10001992-1786557600-1786561200@stpauldesert.church
SUMMARY:Simple Spoken Eucharist
DESCRIPTION:
URL:https://stpauldesert.church/event/simple-spoken-eucharist-4/2026-08-12/
LOCATION:The Church of St. Paul in the Desert\, 125 West El Alameda\, Palm Springs\, CA\, 92262\, United States
END:VEVENT
BEGIN:VEVENT
DTSTART;VALUE=DATE:20260814
DTEND;VALUE=DATE:20260815
DTSTAMP:20260422T012928
CREATED:20260115T044156Z
LAST-MODIFIED:20260117T061023Z
UID:10000358-1786665600-1786751999@stpauldesert.church
SUMMARY:Office Closed
DESCRIPTION:
URL:https://stpauldesert.church/event/office-closed/2026-08-14/
LOCATION:CA
END:VEVENT
BEGIN:VEVENT
DTSTART;TZID=America/Los_Angeles:20260816T080000
DTEND;TZID=America/Los_Angeles:20260816T090000
DTSTAMP:20260422T012928
CREATED:20260420T170848Z
LAST-MODIFIED:20260420T170848Z
UID:10002182-1786867200-1786870800@stpauldesert.church
SUMMARY:Spoken Eucharist
DESCRIPTION:A quiet\, traditional Eucharistic service using Rite II language from the Book of Common Prayer\, spoken rather than sung\, with minimal ceremony and a reflective atmosphere.
URL:https://stpauldesert.church/event/spoken-eucharist-3/2026-08-16/
LOCATION:The Church of St. Paul in the Desert\, 125 West El Alameda\, Palm Springs\, CA\, 92262\, United States
END:VEVENT
BEGIN:VEVENT
DTSTART;TZID=America/Los_Angeles:20260816T103000
DTEND;TZID=America/Los_Angeles:20260816T120000
DTSTAMP:20260422T012928
CREATED:20260420T171116Z
LAST-MODIFIED:20260420T171116Z
UID:10002204-1786876200-1786881600@stpauldesert.church
SUMMARY:Choral Eucharist
DESCRIPTION:A full\, festive Eucharistic service using Rite II liturgy\, with choral and congregational music led by choir and organ\, offering a rich Anglican worship experience. This is our only regularly livestreamed service.
URL:https://stpauldesert.church/event/choral-eucharist/2026-08-16/
LOCATION:The Church of St. Paul in the Desert\, 125 West El Alameda\, Palm Springs\, CA\, 92262\, United States
END:VEVENT
BEGIN:VEVENT
DTSTART;TZID=America/Los_Angeles:20260819T180000
DTEND;TZID=America/Los_Angeles:20260819T190000
DTSTAMP:20260422T012928
CREATED:20260420T163741Z
LAST-MODIFIED:20260420T163741Z
UID:10001993-1787162400-1787166000@stpauldesert.church
SUMMARY:Simple Spoken Eucharist
DESCRIPTION:
URL:https://stpauldesert.church/event/simple-spoken-eucharist-4/2026-08-19/
LOCATION:The Church of St. Paul in the Desert\, 125 West El Alameda\, Palm Springs\, CA\, 92262\, United States
END:VEVENT
BEGIN:VEVENT
DTSTART;VALUE=DATE:20260821
DTEND;VALUE=DATE:20260822
DTSTAMP:20260422T012928
CREATED:20260115T044156Z
LAST-MODIFIED:20260117T061023Z
UID:10000359-1787270400-1787356799@stpauldesert.church
SUMMARY:Office Closed
DESCRIPTION:
URL:https://stpauldesert.church/event/office-closed/2026-08-21/
LOCATION:CA
END:VEVENT
BEGIN:VEVENT
DTSTART;TZID=America/Los_Angeles:20260823T080000
DTEND;TZID=America/Los_Angeles:20260823T090000
DTSTAMP:20260422T012928
CREATED:20260420T170848Z
LAST-MODIFIED:20260420T170848Z
UID:10002183-1787472000-1787475600@stpauldesert.church
SUMMARY:Spoken Eucharist
DESCRIPTION:A quiet\, traditional Eucharistic service using Rite II language from the Book of Common Prayer\, spoken rather than sung\, with minimal ceremony and a reflective atmosphere.
URL:https://stpauldesert.church/event/spoken-eucharist-3/2026-08-23/
LOCATION:The Church of St. Paul in the Desert\, 125 West El Alameda\, Palm Springs\, CA\, 92262\, United States
END:VEVENT
BEGIN:VEVENT
DTSTART;TZID=America/Los_Angeles:20260823T103000
DTEND;TZID=America/Los_Angeles:20260823T120000
DTSTAMP:20260422T012928
CREATED:20260420T171116Z
LAST-MODIFIED:20260420T171116Z
UID:10002205-1787481000-1787486400@stpauldesert.church
SUMMARY:Choral Eucharist
DESCRIPTION:A full\, festive Eucharistic service using Rite II liturgy\, with choral and congregational music led by choir and organ\, offering a rich Anglican worship experience. This is our only regularly livestreamed service.
URL:https://stpauldesert.church/event/choral-eucharist/2026-08-23/
LOCATION:The Church of St. Paul in the Desert\, 125 West El Alameda\, Palm Springs\, CA\, 92262\, United States
END:VEVENT
END:VCALENDAR